BEGIN:VCALENDAR
VERSION:2.0
PRODID:-//Federación Panameña de Karate - ECPv6.15.20//NONSGML v1.0//EN
CALSCALE:GREGORIAN
METHOD:PUBLISH
X-ORIGINAL-URL:https://fepaka.net
X-WR-CALDESC:Eventos para Federación Panameña de Karate
REFRESH-INTERVAL;VALUE=DURATION:PT1H
X-Robots-Tag:noindex
X-PUBLISHED-TTL:PT1H
BEGIN:VTIMEZONE
TZID:America/New_York
BEGIN:DAYLIGHT
TZOFFSETFROM:-0500
TZOFFSETTO:-0400
TZNAME:EDT
DTSTART:20230312T070000
END:DAYLIGHT
BEGIN:STANDARD
TZOFFSETFROM:-0400
TZOFFSETTO:-0500
TZNAME:EST
DTSTART:20231105T060000
END:STANDARD
BEGIN:DAYLIGHT
TZOFFSETFROM:-0500
TZOFFSETTO:-0400
TZNAME:EDT
DTSTART:20240310T070000
END:DAYLIGHT
BEGIN:STANDARD
TZOFFSETFROM:-0400
TZOFFSETTO:-0500
TZNAME:EST
DTSTART:20241103T060000
END:STANDARD
BEGIN:DAYLIGHT
TZOFFSETFROM:-0500
TZOFFSETTO:-0400
TZNAME:EDT
DTSTART:20250309T070000
END:DAYLIGHT
BEGIN:STANDARD
TZOFFSETFROM:-0400
TZOFFSETTO:-0500
TZNAME:EST
DTSTART:20251102T060000
END:STANDARD
END:VTIMEZONE
BEGIN:VEVENT
DTSTART;TZID=America/New_York:20240108T160000
DTEND;TZID=America/New_York:20240109T203000
DTSTAMP:20260421T162659
CREATED:20231201T165946Z
LAST-MODIFIED:20240110T202154Z
UID:4104-1704729600-1704832200@fepaka.net
SUMMARY:Base de Entrenamiento -Driss El Mannani
DESCRIPTION:Base de entrenamiento para Atleta de Kumite \n\n\n\nHorarios: \n\n\n\nDe 5:00 p.m. a 6:30 p.m.  \n\n\n\n\nU-12\n\n\n\nU-14\n\n\n\nCadetes\n\n\n\n\nDe 6:30 p.m. a 8:00 p.m.  \n\n\n\n\nJunior\n\n\n\nU-21\n\n\n\nSenior
URL:https://fepaka.net/calendario/base-de-entrenamiento-coach-driss-el-mannani/
LOCATION:Complejo Deportivo Roberto Kelly\, Don Bosco\, Complejo Deportivo Roberto Kelly\, Panama\, Panama\, Panamá
CATEGORIES:FEPAKA,SEMINARIOS
ATTACH;FMTTYPE=image/jpeg:https://fepaka.net/wp-content/uploads/2023/11/Base-Entrenamiento-Driss.jpeg
ORGANIZER;CN="Federaci%C3%B3n Paname%C3%B1a de Karate":MAILTO:directiva@fepaka.net
END:VEVENT
BEGIN:VEVENT
DTSTART;TZID=America/New_York:20240121T090000
DTEND;TZID=America/New_York:20240121T160000
DTSTAMP:20260421T162659
CREATED:20231121T232008Z
LAST-MODIFIED:20231201T165523Z
UID:3776-1705827600-1705852800@fepaka.net
SUMMARY:Seminario para Licencia de Coach y Arbitral
DESCRIPTION:Puedes inscribirte en el siguiente link: https://fepaka.net/2023/11/30/actualizacion-del-reglamento-wkf/
URL:https://fepaka.net/calendario/licencia-de-coach-y-arbitral/
LOCATION:Centro de Combates Pandeportes\, Ciudad Deportiva Irving Saladino\, Panamá\, Panamá\, Panamá
CATEGORIES:AVALADO,FEPAKA,RANKING
ATTACH;FMTTYPE=image/jpeg:https://fepaka.net/wp-content/uploads/2023/11/Seminario-Coach-y-arbitros.jpeg
ORGANIZER;CN="Federaci%C3%B3n Paname%C3%B1a de Karate":MAILTO:directiva@fepaka.net
END:VEVENT
BEGIN:VEVENT
DTSTART;TZID=America/New_York:20240127T080000
DTEND;TZID=America/New_York:20240127T170000
DTSTAMP:20260421T162659
CREATED:20231121T232705Z
LAST-MODIFIED:20231201T173028Z
UID:3779-1706342400-1706374800@fepaka.net
SUMMARY:PREMIACION DEL RANKING NACIONAL 2023
DESCRIPTION:
URL:https://fepaka.net/calendario/premiacion-del-ranking-nacional-2023/
CATEGORIES:FEPAKA,RANKING
ATTACH;FMTTYPE=image/png:https://fepaka.net/wp-content/uploads/2023/11/logo-fepaka-01.png
ORGANIZER;CN="Federaci%C3%B3n Paname%C3%B1a de Karate":MAILTO:directiva@fepaka.net
END:VEVENT
END:VCALENDAR