BEGIN:VCALENDAR
VERSION:2.0
PRODID:-//Federación Panameña de Karate - ECPv6.15.20//NONSGML v1.0//EN
CALSCALE:GREGORIAN
METHOD:PUBLISH
X-ORIGINAL-URL:https://fepaka.net
X-WR-CALDESC:Eventos para Federación Panameña de Karate
REFRESH-INTERVAL;VALUE=DURATION:PT1H
X-Robots-Tag:noindex
X-PUBLISHED-TTL:PT1H
BEGIN:VTIMEZONE
TZID:America/New_York
BEGIN:DAYLIGHT
TZOFFSETFROM:-0500
TZOFFSETTO:-0400
TZNAME:EDT
DTSTART:20230312T070000
END:DAYLIGHT
BEGIN:STANDARD
TZOFFSETFROM:-0400
TZOFFSETTO:-0500
TZNAME:EST
DTSTART:20231105T060000
END:STANDARD
BEGIN:DAYLIGHT
TZOFFSETFROM:-0500
TZOFFSETTO:-0400
TZNAME:EDT
DTSTART:20240310T070000
END:DAYLIGHT
BEGIN:STANDARD
TZOFFSETFROM:-0400
TZOFFSETTO:-0500
TZNAME:EST
DTSTART:20241103T060000
END:STANDARD
BEGIN:DAYLIGHT
TZOFFSETFROM:-0500
TZOFFSETTO:-0400
TZNAME:EDT
DTSTART:20250309T070000
END:DAYLIGHT
BEGIN:STANDARD
TZOFFSETFROM:-0400
TZOFFSETTO:-0500
TZNAME:EST
DTSTART:20251102T060000
END:STANDARD
END:VTIMEZONE
BEGIN:VEVENT
DTSTART;TZID=America/New_York:20240406T110000
DTEND;TZID=America/New_York:20240407T090000
DTSTAMP:20260421T214015
CREATED:20240318T174154Z
LAST-MODIFIED:20240325T172418Z
UID:4392-1712401200-1712480400@fepaka.net
SUMMARY:Práctica Arbitral Manejo de Joystick
DESCRIPTION:Primera gran práctica del uso de joystick para jueces y árbitros
URL:https://fepaka.net/calendario/practica-arbitral-manejo-de-joystick/
LOCATION:Complejo Deportivo Roberto Kelly\, Don Bosco\, Complejo Deportivo Roberto Kelly\, Panama\, Panama\, Panamá
CATEGORIES:FEPAKA
ATTACH;FMTTYPE=image/png:https://fepaka.net/wp-content/uploads/2023/11/logo-fepaka-01.png
END:VEVENT
BEGIN:VEVENT
DTSTART;TZID=America/New_York:20240406T143000
DTEND;TZID=America/New_York:20240406T180000
DTSTAMP:20260421T214015
CREATED:20240117T230747Z
LAST-MODIFIED:20240117T231318Z
UID:4171-1712413800-1712426400@fepaka.net
SUMMARY:Rangos Federados
DESCRIPTION:Detalles próximamente.
URL:https://fepaka.net/calendario/rangos-federados-2024/
LOCATION:Complejo Deportivo Roberto Kelly\, Don Bosco\, Complejo Deportivo Roberto Kelly\, Panama\, Panama\, Panamá
CATEGORIES:FEPAKA
ATTACH;FMTTYPE=image/png:https://fepaka.net/wp-content/uploads/2023/11/logo-fepaka-01.png
ORGANIZER;CN="Federaci%C3%B3n Paname%C3%B1a de Karate":MAILTO:directiva@fepaka.net
END:VEVENT
BEGIN:VEVENT
DTSTART;TZID=America/New_York:20240414T080000
DTEND;TZID=America/New_York:20240414T170000
DTSTAMP:20260421T214015
CREATED:20240117T232147Z
LAST-MODIFIED:20240304T191206Z
UID:4179-1713081600-1713114000@fepaka.net
SUMMARY:Copa Eiichi Mizayato - OGKK
DESCRIPTION:Detalles próximamente…
URL:https://fepaka.net/calendario/copa-eiichi-mizayato/
LOCATION:Centro de Combates Pandeportes\, Ciudad Deportiva Irving Saladino\, Panamá\, Panamá\, Panamá
CATEGORIES:AVALADO
ATTACH;FMTTYPE=image/jpeg:https://fepaka.net/wp-content/uploads/2024/03/Imagen-de-WhatsApp-2024-03-01-a-las-10.08.20_7029c2ea.jpg
END:VEVENT
BEGIN:VEVENT
DTSTART;TZID=America/New_York:20240414T080000
DTEND;TZID=America/New_York:20240417T170000
DTSTAMP:20260421T214015
CREATED:20240311T150955Z
LAST-MODIFIED:20240318T175614Z
UID:4366-1713081600-1713373200@fepaka.net
SUMMARY:Juegos Juveniles Pandeportes
DESCRIPTION:
URL:https://fepaka.net/calendario/juegos-juveniles-pandeportes/
LOCATION:Centro de Combates Pandeportes\, Ciudad Deportiva Irving Saladino\, Panamá\, Panamá\, Panamá
CATEGORIES:FEPAKA
ATTACH;FMTTYPE=image/png:https://fepaka.net/wp-content/uploads/2024/03/Pandeportes.png
END:VEVENT
BEGIN:VEVENT
DTSTART;TZID=America/New_York:20240427T080000
DTEND;TZID=America/New_York:20240428T170000
DTSTAMP:20260421T214015
CREATED:20231204T153136Z
LAST-MODIFIED:20240326T041903Z
UID:4129-1714204800-1714323600@fepaka.net
SUMMARY:Copa Kensho 2024 - Ranking
DESCRIPTION:Invitación y programa del evento \n\n\n\n\n\n\n\n\n\n\n\n\n\n\n\n\n\nCategorías \n\n\n\n\n\n\n\n\n\n\n\n\n\n\n\n\n\n\n\n\n\n\n\n\n\n\n\n\n\nAquí podrán ver categorías e inscripciones de atletas por dojo y por categoría  \n\n\n\n👇 \n\n\n\nhttps://bit.ly/CopaKensho2024
URL:https://fepaka.net/calendario/copa-kensho-2024-ranking/
LOCATION:Centro de Convenciones Atlapa\, Atlapa\, Panamá\, Panamá
CATEGORIES:RANKING
ATTACH;FMTTYPE=image/jpeg:https://fepaka.net/wp-content/uploads/2023/12/Imagen-de-WhatsApp-2024-01-29-a-las-10.24.20_fd0a26ae.jpg
END:VEVENT
END:VCALENDAR