BEGIN:VCALENDAR
VERSION:2.0
PRODID:-//Federación Panameña de Karate - ECPv6.15.20//NONSGML v1.0//EN
CALSCALE:GREGORIAN
METHOD:PUBLISH
X-ORIGINAL-URL:https://fepaka.net
X-WR-CALDESC:Eventos para Federación Panameña de Karate
REFRESH-INTERVAL;VALUE=DURATION:PT1H
X-Robots-Tag:noindex
X-PUBLISHED-TTL:PT1H
BEGIN:VTIMEZONE
TZID:America/New_York
BEGIN:DAYLIGHT
TZOFFSETFROM:-0500
TZOFFSETTO:-0400
TZNAME:EDT
DTSTART:20210314T070000
END:DAYLIGHT
BEGIN:STANDARD
TZOFFSETFROM:-0400
TZOFFSETTO:-0500
TZNAME:EST
DTSTART:20211107T060000
END:STANDARD
BEGIN:DAYLIGHT
TZOFFSETFROM:-0500
TZOFFSETTO:-0400
TZNAME:EDT
DTSTART:20220313T070000
END:DAYLIGHT
BEGIN:STANDARD
TZOFFSETFROM:-0400
TZOFFSETTO:-0500
TZNAME:EST
DTSTART:20221106T060000
END:STANDARD
BEGIN:DAYLIGHT
TZOFFSETFROM:-0500
TZOFFSETTO:-0400
TZNAME:EDT
DTSTART:20230312T070000
END:DAYLIGHT
BEGIN:STANDARD
TZOFFSETFROM:-0400
TZOFFSETTO:-0500
TZNAME:EST
DTSTART:20231105T060000
END:STANDARD
BEGIN:DAYLIGHT
TZOFFSETFROM:-0500
TZOFFSETTO:-0400
TZNAME:EDT
DTSTART:20240310T070000
END:DAYLIGHT
BEGIN:STANDARD
TZOFFSETFROM:-0400
TZOFFSETTO:-0500
TZNAME:EST
DTSTART:20241103T060000
END:STANDARD
END:VTIMEZONE
BEGIN:VEVENT
DTSTART;TZID=America/New_York:20230227T080000
DTEND;TZID=America/New_York:20230304T170000
DTSTAMP:20260424T235204
CREATED:20221108T015735Z
LAST-MODIFIED:20221109T034010Z
UID:3321-1677484800-1677949200@fepaka.net
SUMMARY:Centroamericano y del Caribe 2023 - México
DESCRIPTION:
URL:https://fepaka.net/calendario/centroamericano-y-del-caribe-2023-costa-rica/
CATEGORIES:CCCK
ATTACH;FMTTYPE=image/png:https://fepaka.net/wp-content/uploads/2021/11/logo-fepaka.png
ORGANIZER;CN="Federaci%C3%B3n Paname%C3%B1a de Karate":MAILTO:directiva@fepaka.net
END:VEVENT
BEGIN:VEVENT
DTSTART;TZID=America/New_York:20230207T080000
DTEND;TZID=America/New_York:20230212T170000
DTSTAMP:20260424T235204
CREATED:20221108T012101Z
LAST-MODIFIED:20221108T012103Z
UID:3311-1675756800-1676221200@fepaka.net
SUMMARY:CCONDEKA 2023 - Costa Rica
DESCRIPTION:Campeonato Centroamericano de Karate
URL:https://fepaka.net/calendario/ccondeka-2023-costa-rica/
CATEGORIES:CCONDEKA
ATTACH;FMTTYPE=image/jpeg:https://fepaka.net/wp-content/uploads/2022/11/CCONDEKA-2023.jpeg
ORGANIZER;CN="Federaci%C3%B3n Paname%C3%B1a de Karate":MAILTO:directiva@fepaka.net
END:VEVENT
BEGIN:VEVENT
DTSTART;TZID=America/New_York:20230204T080000
DTEND;TZID=America/New_York:20230205T170000
DTSTAMP:20260424T235204
CREATED:20221108T020054Z
LAST-MODIFIED:20221108T021129Z
UID:3323-1675497600-1675616400@fepaka.net
SUMMARY:Nacional FEPAKA Junior\, Sub21\, Seniors 2023
DESCRIPTION:Evento Nacional FEPAKA \n\n\n\ndatos actualizados proximamente…
URL:https://fepaka.net/calendario/nacional-fepaka-seniors-2023/
CATEGORIES:FEPAKA,RANKING
ATTACH;FMTTYPE=image/png:https://fepaka.net/wp-content/uploads/2021/11/logo-fepaka.png
ORGANIZER;CN="Federaci%C3%B3n Paname%C3%B1a de Karate":MAILTO:directiva@fepaka.net
END:VEVENT
BEGIN:VEVENT
DTSTART;TZID=America/New_York:20230128T080000
DTEND;TZID=America/New_York:20230129T170000
DTSTAMP:20260424T235204
CREATED:20221107T043308Z
LAST-MODIFIED:20221108T014900Z
UID:3270-1674892800-1675011600@fepaka.net
SUMMARY:Evento Avalado - Copa Luis Pereira
DESCRIPTION:Evento Avalado Copa Luis Pereira \n\n\n\nDatos próximamente…
URL:https://fepaka.net/calendario/evento-avalado-copa-luis-pereira/
LOCATION:Gimnasio Beto Remon\, Gimnasio Beto Remon\, Panama\, Panamá
CATEGORIES:AVALADO
ATTACH;FMTTYPE=image/jpeg:https://fepaka.net/wp-content/uploads/2022/11/Copa-Luis-Pereira.jpeg
END:VEVENT
BEGIN:VEVENT
DTSTART;TZID=America/New_York:20230114T000000
DTEND;TZID=America/New_York:20230115T235959
DTSTAMP:20260424T235204
CREATED:20221107T042855Z
LAST-MODIFIED:20221116T205919Z
UID:3268-1673654400-1673827199@fepaka.net
SUMMARY:RANKING - Copa Kyo Kai Loo
DESCRIPTION:Evento Ranking FEPAKA \n\n\n\nDatos próximamente…
URL:https://fepaka.net/calendario/ranking-copa-kyo-kai-loo/
LOCATION:Gimnasio de Los Naranjos\, Chiriquí\, Boquete\, Los Naranjos\, Boquete\, Chiriquí\, Panamá
CATEGORIES:RANKING
ATTACH;FMTTYPE=image/jpeg:https://fepaka.net/wp-content/uploads/2022/11/Kyo-Kai-Loo-2023.jpg
END:VEVENT
BEGIN:VEVENT
DTSTART;TZID=America/New_York:20230108T090000
DTEND;TZID=America/New_York:20230108T110000
DTSTAMP:20260424T235204
CREATED:20230103T025432Z
LAST-MODIFIED:20230103T030413Z
UID:3334-1673168400-1673175600@fepaka.net
SUMMARY:Actualización del Reglamento de Ranking Nacional Ruta 2023 (Vía Zoom)
DESCRIPTION:Daremos a conocer los detalles del reglamento Ruta Ranking 2023. Dirigido a los coach Federados y avalados por FEPAKA \n\n\n\nEl Seminario no tiene costo. Debe llenar el formulario siguiente para particiar: \n\n\n\nFormulario\, clic aquí
URL:https://fepaka.net/calendario/actualizacion-del-reglamento-de-ranking-nacional-ruta-2023-via-zoom/
CATEGORIES:AVALADO,RANKING
ATTACH;FMTTYPE=image/png:https://fepaka.net/wp-content/uploads/2023/01/logo-ruta-ranking-2023.png
ORGANIZER;CN="Federaci%C3%B3n Paname%C3%B1a de Karate":MAILTO:directiva@fepaka.net
END:VEVENT
BEGIN:VEVENT
DTSTART;TZID=America/New_York:20221204T080000
DTEND;TZID=America/New_York:20221204T180000
DTSTAMP:20260424T235204
CREATED:20221107T044322Z
LAST-MODIFIED:20221107T184855Z
UID:3279-1670140800-1670176800@fepaka.net
SUMMARY:Eliminatoria Liga Prov. Panamá Oeste
DESCRIPTION:El motivo de la presente es que la Federación Panameña de Karate (FEPAKA)\, anunciará pronto el calendario oficial de actividades para este año 2023 y para lo cual se requiere\, que esta organización provincial\, realice la Selección de Atletas que representarán a Panamá Oeste en los Campeonatos nacionales\, en las categorías de: Semillita\, Infantil\, Cadete\, Junior\, Sub21 y Senior. \n\n\n\nEsta selección de atleta se dará con nuestra ELIMINATORIA PROVINCIAL 2022 a realizarse el Domingo 4 de diciembre\, en el gimnasio Regulo Sánchez ubicado en Arraiján cabecera desde las9:00am (en punto).• Entrada publico general $1.00 (mayores de 8 años) \n\n\n\nPara el desarrollo de esta eliminatoria contaremos con 2 tatamis\, árbitros de FEPAKA y el manejo por la tecnología de SPORTDATA. \n\n\n\nSin mas que agregar\, esperamos contar con la gran participación de todos los dojos que conforman nuestra provincia. \n\n\n\nSe despide atentamente. \n\n\n\nSensei Ricardo MagallónPresidente de la liga \n\n\n\nEliminatoria-Provincial-1Descarga
URL:https://fepaka.net/calendario/eliminatoria-liga-prov-panama-oeste/
LOCATION:Gimnasio Regulo Sánchez\, Arraijan\, Gimnasio Regulo Sanchez\, Arraijan\, Panamá Oeste\, Panamá
CATEGORIES:Provincial
ATTACH;FMTTYPE=image/jpeg:https://fepaka.net/wp-content/uploads/2022/11/Logo-Liga-Provincial-Pma-Oeste.jpg
END:VEVENT
BEGIN:VEVENT
DTSTART;TZID=America/New_York:20221202T180000
DTEND;TZID=America/New_York:20221202T213000
DTSTAMP:20260424T235204
CREATED:20221107T041724Z
LAST-MODIFIED:20221107T042938Z
UID:3262-1670004000-1670016600@fepaka.net
SUMMARY:Premiación Ruta Ranking 2022
DESCRIPTION:La Federación Panameña de Karate (FEPAKA) reconoce la disciplina y la perseverancia de los atletas\, por ellos se les hará entrega de un reconocimiento a los atletas más destacados de la Ruta Ranking 2022\, efectuándose la entrega en una ceremonia\, el día dos de diciembre a las 6pm\, en el anfiteatro del edificio de Deportes de Combate\, en Pandeportes. \n\n\n\nTendremos reconocimiento a los 3 primeros lugares de todas las categorías de Infantil\, Cadete\, Junior\, Sub21 y Senior \n\n\n\nAquí puedes ver a detalle los puntos logrados en cada uno de los eventos de la Ruta Ranking durante el año 2022: https://fepaka.net/ranking-temporada-2022/
URL:https://fepaka.net/calendario/premiacion-ruta-ranking-2022/
LOCATION:Centro de Combates Pandeportes\, Ciudad Deportiva Irving Saladino\, Panamá\, Panamá\, Panamá
CATEGORIES:FEPAKA,RANKING
ATTACH;FMTTYPE=image/jpeg:https://fepaka.net/wp-content/uploads/2022/10/Premiacion-Ruta-Ranking-2022.jpeg
ORGANIZER;CN="Federaci%C3%B3n Paname%C3%B1a de Karate":MAILTO:directiva@fepaka.net
END:VEVENT
BEGIN:VEVENT
DTSTART;TZID=America/New_York:20221126T090000
DTEND;TZID=America/New_York:20221126T120000
DTSTAMP:20260424T235204
CREATED:20221107T042253Z
LAST-MODIFIED:20221107T042618Z
UID:3264-1669453200-1669464000@fepaka.net
SUMMARY:Seminario de actualización Reglamento de Kata y Kumite
DESCRIPTION:Seminario de actualización de Kata y Kumite con el Sensei Guido Abdala de Guatemala \n\n\n\n \n\n\n\nDebe Ser miembro afiliado de FEPAKA
URL:https://fepaka.net/calendario/seminario-de-actualizacion-reglamento-de-kata-y-kumite/
LOCATION:Zoom
CATEGORIES:FEPAKA
ATTACH;FMTTYPE=image/png:https://fepaka.net/wp-content/uploads/2021/11/logo-fepaka.png
ORGANIZER;CN="Federaci%C3%B3n Paname%C3%B1a de Karate":MAILTO:directiva@fepaka.net
END:VEVENT
BEGIN:VEVENT
DTSTART;TZID=America/New_York:20221120T080000
DTEND;TZID=America/New_York:20221120T170000
DTSTAMP:20260424T235204
CREATED:20221107T040432Z
LAST-MODIFIED:20221107T184804Z
UID:3258-1668931200-1668963600@fepaka.net
SUMMARY:III Campeonato abierto PROVINCIAL SEMILLITA-INFANTIL-CADETE-JUNIOR-SUB21-SENIOR
DESCRIPTION:Evento Provincial clasificatorio al Nacional FEPAKA 2023 \n\n\n\n\n\n \n\n\n\nRESOLUCION-No.1-3-de-octubre-de-2022LIGA-PROVINCIAL-DE-PANAMADescarga
URL:https://fepaka.net/calendario/iii-campeonato-liga-prov-panama/
LOCATION:Complejo Deportivo Roberto Kelly\, Don Bosco\, Complejo Deportivo Roberto Kelly\, Panama\, Panama\, Panamá
CATEGORIES:Provincial
ATTACH;FMTTYPE=image/jpeg:https://fepaka.net/wp-content/uploads/2022/11/III-Campeonado-Liga-Prov-Panama.jpg
ORGANIZER;CN="Liga Prov. Panam%C3%A1":MAILTO:ligaprovincialkaratepma@gmail.com
END:VEVENT
END:VCALENDAR